BEGIN:VCALENDAR
VERSION:2.0
PRODID:LFV Website-Kit
METHOD:PUBLISH
BEGIN:VEVENT
UID:lfv-cc3e105b-96de-4edd-8174-ac9bd189e7b6
LOCATION:
SUMMARY:Monatsübung: UVV, Blaulichtbelehrung
DESCRIPTION:Termin Link: http://www.feuerwehr-kirchroth.de/termine/monatsubung-uvv-blaulichtbelehrung/
URL:http://www.feuerwehr-kirchroth.de/termine/monatsubung-uvv-blaulichtbelehrung/
CLASS:PRIVATE
DTSTART;TZID=Europe/Berlin:20261214T190000
DTEND;TZID=Europe/Berlin:20261214T210000
DTSTAMP:20260419T201929Z
END:VEVENT
END:VCALENDAR