BEGIN:VCALENDAR
VERSION:2.0
PRODID:LFV Website-Kit
METHOD:PUBLISH
BEGIN:VEVENT
UID:lfv-3083e092-54ed-48c8-a1de-8575b43fc6ba
LOCATION:
SUMMARY:Monatsübung: Ausleuchtung RTH-Landeplatz
DESCRIPTION:Termin Link: http://www.feuerwehr-kirchroth.de/termine/monatsubung-ausleuchtung-rth-landeplatz/
URL:http://www.feuerwehr-kirchroth.de/termine/monatsubung-ausleuchtung-rth-landeplatz/
CLASS:PRIVATE
DTSTART;TZID=Europe/Berlin:20261102T190000
DTEND;TZID=Europe/Berlin:20261102T210000
DTSTAMP:20260419T134952Z
END:VEVENT
END:VCALENDAR