BEGIN:VCALENDAR
VERSION:2.0
PRODID:LFV Website-Kit
METHOD:PUBLISH
BEGIN:VEVENT
UID:lfv-c8b0240e-314d-4367-9e04-1eb6d935fffa
LOCATION:
SUMMARY:Kirchrother Feuerwehrball
DESCRIPTION:Termin Link: http://www.feuerwehr-kirchroth.de/termine/kirchrother-feuerwehrball/
URL:http://www.feuerwehr-kirchroth.de/termine/kirchrother-feuerwehrball/
CLASS:PRIVATE
DTSTART;TZID=Europe/Berlin:20270116T190000
DTEND;TZID=Europe/Berlin:20270116T200000
DTSTAMP:20260419T215519Z
END:VEVENT
END:VCALENDAR