BEGIN:VCALENDAR
VERSION:2.0
PRODID:LFV Website-Kit
METHOD:PUBLISH
BEGIN:VEVENT
UID:lfv-f0c5ba58-9c6e-4ea9-98ea-f2fddbba7830
LOCATION:
SUMMARY:Kameradschaftsabend
DESCRIPTION:Termin Link: http://www.feuerwehr-kirchroth.de/termine/kameradschaftsabend-1/
URL:http://www.feuerwehr-kirchroth.de/termine/kameradschaftsabend-1/
CLASS:PRIVATE
DTSTART;TZID=Europe/Berlin:20261024T190000
DTEND;TZID=Europe/Berlin:20261024T200000
DTSTAMP:20260419T122619Z
END:VEVENT
END:VCALENDAR