BEGIN:VCALENDAR
VERSION:2.0
PRODID:LFV Website-Kit
METHOD:PUBLISH
BEGIN:VEVENT
UID:lfv-a70030df-0d86-4750-9607-0b59c616479b
LOCATION:
SUMMARY:Jahreshauptversammlung
DESCRIPTION:Termin Link: http://www.feuerwehr-kirchroth.de/termine/jahreshauptversammlung/
URL:http://www.feuerwehr-kirchroth.de/termine/jahreshauptversammlung/
CLASS:PRIVATE
DTSTART;TZID=Europe/Berlin:20261107T190000
DTEND;TZID=Europe/Berlin:20261107T200000
DTSTAMP:20260419T152303Z
END:VEVENT
END:VCALENDAR