BEGIN:VCALENDAR
VERSION:2.0
PRODID:LFV Website-Kit
METHOD:PUBLISH
BEGIN:VEVENT
UID:lfv-2c375673-8d47-40e7-a109-b4c25b122d19
LOCATION:
SUMMARY:Christkindlmarkt Kirchroth: Betrieb einer Bude
DESCRIPTION:Termin Link: http://www.feuerwehr-kirchroth.de/termine/christkindlmarkt-kirchroth-betrieb-einer-bude/
URL:http://www.feuerwehr-kirchroth.de/termine/christkindlmarkt-kirchroth-betrieb-einer-bude/
CLASS:PRIVATE
DTSTART;TZID=Europe/Berlin:20261205T160000
DTEND;TZID=Europe/Berlin:20261205T170000
DTSTAMP:20260419T172219Z
END:VEVENT
END:VCALENDAR