BEGIN:VCALENDAR
VERSION:2.0
PRODID:LFV Website-Kit
METHOD:PUBLISH
BEGIN:VEVENT
UID:lfv-2165884a-1834-4c0b-8d96-c7f7d8b06481
LOCATION:
SUMMARY:Christkindlmarkt Kirchroth: Betrieb einer Bude
DESCRIPTION:Termin Link: http://www.feuerwehr-kirchroth.de/termine/christkindlmarkt-kirchroth-betrieb-einer-bude-1/
URL:http://www.feuerwehr-kirchroth.de/termine/christkindlmarkt-kirchroth-betrieb-einer-bude-1/
CLASS:PRIVATE
DTSTART;TZID=Europe/Berlin:20261206T110000
DTEND;TZID=Europe/Berlin:20261206T120000
DTSTAMP:20260419T184448Z
END:VEVENT
END:VCALENDAR